BEGIN:VCALENDAR
VERSION:2.0
PRODID:-//Movement Unlimited Inc. - ECPv6.15.20//NONSGML v1.0//EN
CALSCALE:GREGORIAN
METHOD:PUBLISH
X-ORIGINAL-URL:https://www.move2improve.ca
X-WR-CALDESC:Events for Movement Unlimited Inc.
REFRESH-INTERVAL;VALUE=DURATION:PT1H
X-Robots-Tag:noindex
X-PUBLISHED-TTL:PT1H
BEGIN:VTIMEZONE
TZID:America/Toronto
BEGIN:DAYLIGHT
TZOFFSETFROM:-0500
TZOFFSETTO:-0400
TZNAME:EDT
DTSTART:20240310T070000
END:DAYLIGHT
BEGIN:STANDARD
TZOFFSETFROM:-0400
TZOFFSETTO:-0500
TZNAME:EST
DTSTART:20241103T060000
END:STANDARD
BEGIN:DAYLIGHT
TZOFFSETFROM:-0500
TZOFFSETTO:-0400
TZNAME:EDT
DTSTART:20250309T070000
END:DAYLIGHT
BEGIN:STANDARD
TZOFFSETFROM:-0400
TZOFFSETTO:-0500
TZNAME:EST
DTSTART:20251102T060000
END:STANDARD
BEGIN:DAYLIGHT
TZOFFSETFROM:-0500
TZOFFSETTO:-0400
TZNAME:EDT
DTSTART:20260308T070000
END:DAYLIGHT
BEGIN:STANDARD
TZOFFSETFROM:-0400
TZOFFSETTO:-0500
TZNAME:EST
DTSTART:20261101T060000
END:STANDARD
END:VTIMEZONE
BEGIN:VEVENT
DTSTART;VALUE=DATE:20250106
DTEND;VALUE=DATE:20250707
DTSTAMP:20260422T051631
CREATED:20250108T141632Z
LAST-MODIFIED:20250108T212039Z
UID:8199-1736121600-1751846399@www.move2improve.ca
SUMMARY:Explore Yoga
DESCRIPTION:  \nConnect your mind\, body and soul through our authentic yoga practice\, where you will explore inclusive and adaptive styles suitable for beginners to experienced. \nOur 2025 yoga passes are now available. Purchase a 6 class pass for $75+HST valid for 3 months from date of purchase. \n 
URL:https://www.move2improve.ca/event/explore-yoga/
LOCATION:Ontario
ATTACH;FMTTYPE=image/png:https://www.move2improve.ca/wp-content/uploads/2025/01/Explore-Yoga-.png
END:VEVENT
END:VCALENDAR